Workbook

Sheet Purchases
A1: Date | B1: Item name | C1: Purchased by | D1: Purchaser Ravelry name | E1: Purchased via | F1: Paid | G1: Cart Total | H1: Status | I1: Paypal receipt | J1: Ravelry receipt
A2: 41915.375 | B2: A | C2: A@B.COM | D2: a | E2: ravelry | F2: 1 | G2: 1 | H2: Completed | I2: xxx | J2: 123
A3: 41884.891 | B3: B | C3: b@c.com | D3: b | E3: ravelry | F3: 2 | G3: 2 | H3: Completed | I3: yyy | J3: 456
A4: 41853.487 | B4: C | C4: d@e.com | D4: d | I4: zzz | J4: 789
A5: 41822.487 | B5: A | C5: f@g.com | D5: f | J5: 135
A6: 41791 | B6: B | C6: h@j.com
A7: 41760 | B7: C | C7: j@l.com
A8: 41754.97 | B8: A | C8: m@n.com | D8: m | E8: ravelry | F8: 3 | G8: 3 | H8: Completed | I8: aaa | J8: 246
A9: 41749.748 | B9: B | C9: o@p.com | D9: o | E9: ravelry | F9: 4 | G9: 4 | H9: Completed | I9: bbb | J9: 357
A10: 41535.878 | B10: C | C10: q@r.com | D10: q | E10: ravelry | F10: 5 | G10: 5 | H10: Completed | I10: ccc | J10: 468
A11: 41170.368 | B11: A | C11: s@t.com | F11: 6 | G11: 6 | J11: 579
A12: 40799.312 | B12: B | F12: 7 | G12: 7 | J12: 680
A13: 40423.67 | B13: C | C13: u@v.com | D13: u | E13: ravelry | F13: 8 | G13: 8 | H13: Completed | I13: ddd | J13: 100

Sheet Purchases by Month
A1: Month | B1: Purchases
A2: 40848 | B2: =COUNTIFS(Purchases!F$2:'Purchases'!F$10000,"<>",Purchases!A$2:A$10000,">="&A2,Purchases!A$2:A$10000,"<"&A3) -> 0
A3: =DATE(YEAR(A2),MONTH(A2)+1,DAY(A2)) -> 40878 | B3: =COUNTIFS(Purchases!F$2:'Purchases'!F$10000,"<>",Purchases!A$2:A$10000,">="&A3,Purchases!A$2:A$10000,"<"&A4) -> 0
A4: =DATE(YEAR(A3),MONTH(A3)+1,DAY(A3)) -> 40909 | B4: =COUNTIFS(Purchases!F$2:'Purchases'!F$10000,"<>",Purchases!A$2:A$10000,">="&A4,Purchases!A$2:A$10000,"<"&A5) -> 0
A5: =DATE(YEAR(A4),MONTH(A4)+1,DAY(A4)) -> 40940 | B5: =COUNTIFS(Purchases!F$2:'Purchases'!F$10000,"<>",Purchases!A$2:A$10000,">="&A5,Purchases!A$2:A$10000,"<"&A6) -> 0
A6: =DATE(YEAR(A5),MONTH(A5)+1,DAY(A5)) -> 40969 | B6: =COUNTIFS(Purchases!F$2:'Purchases'!F$10000,"<>",Purchases!A$2:A$10000,">="&A6,Purchases!A$2:A$10000,"<"&A7) -> 0
A7: =DATE(YEAR(A6),MONTH(A6)+1,DAY(A6)) -> 41000 | B7: =COUNTIFS(Purchases!F$2:'Purchases'!F$10000,"<>",Purchases!A$2:A$10000,">="&A7,Purchases!A$2:A$10000,"<"&A8) -> 0
A8: =DATE(YEAR(A7),MONTH(A7)+1,DAY(A7)) -> 41030 | B8: =COUNTIFS(Purchases!F$2:'Purchases'!F$10000,"<>",Purchases!A$2:A$10000,">="&A8,Purchases!A$2:A$10000,"<"&A9) -> 0
A9: =DATE(YEAR(A8),MONTH(A8)+1,DAY(A8)) -> 41061 | B9: =COUNTIFS(Purchases!F$2:'Purchases'!F$10000,"<>",Purchases!A$2:A$10000,">="&A9,Purchases!A$2:A$10000,"<"&A10) -> 0
A10: =DATE(YEAR(A9),MONTH(A9)+1,DAY(A9)) -> 41091 | B10: =COUNTIFS(Purchases!F$2:'Purchases'!F$10000,"<>",Purchases!A$2:A$10000,">="&A10,Purchases!A$2:A$10000,"<"&A11) -> 0
A11: =DATE(YEAR(A10),MONTH(A10)+1,DAY(A10)) -> 41122 | B11: =COUNTIFS(Purchases!F$2:'Purchases'!F$10000,"<>",Purchases!A$2:A$10000,">="&A11,Purchases!A$2:A$10000,"<"&A12) -> 0
A12: =DATE(YEAR(A11),MONTH(A11)+1,DAY(A11)) -> 41153 | B12: =COUNTIFS(Purchases!F$2:'Purchases'!F$10000,"<>",Purchases!A$2:A$10000,">="&A12,Purchases!A$2:A$10000,"<"&A13) -> 1
A13: =DATE(YEAR(A12),MONTH(A12)+1,DAY(A12)) -> 41183 | B13: =COUNTIFS(Purchases!F$2:'Purchases'!F$10000,"<>",Purchases!A$2:A$10000,">="&A13,Purchases!A$2:A$10000,"<"&A14) -> 0
A14: =DATE(YEAR(A13),MONTH(A13)+1,DAY(A13)) -> 41214 | B14: =COUNTIFS(Purchases!F$2:'Purchases'!F$10000,"<>",Purchases!A$2:A$10000,">="&A14,Purchases!A$2:A$10000,"<"&A15) -> 0
... A39: =DATE(YEAR(A38),MONTH(A38)+1,DAY(A38)) -> 41974 | B39: =COUNTIFS(Purchases!F$2:'Purchases'!F$10000,"<>",Purchases!A$2:A$10000,">="&A39,Purchases!A$2:A$10000,"<"&A40) -> 0
